Package: ChIPpeakAnno Version: 3.41.1 Command: /Library/Frameworks/R.framework/Resources/bin/R CMD build --keep-empty-dirs --no-resave-data ChIPpeakAnno StartedAt: 2025-02-20 15:53:02 -0500 (Thu, 20 Feb 2025) EndedAt: 2025-02-20 15:59:19 -0500 (Thu, 20 Feb 2025) EllapsedTime: 377.1 seconds RetCode: 0 Status: OK PackageFile: ChIPpeakAnno_3.41.1.tar.gz PackageFileSize: 21.48 MiB