Package: ChIPexoQual Version: 1.31.0 Command: E:\biocbuild\bbs-3.21-bioc\R\bin\R.exe CMD INSTALL ChIPexoQual StartedAt: 2025-02-19 16:17:37 -0500 (Wed, 19 Feb 2025) EndedAt: 2025-02-19 16:18:49 -0500 (Wed, 19 Feb 2025) EllapsedTime: 71.9 seconds RetCode: 0 Status: OK