Package: ChIPanalyser Version: 1.29.0 Command: /Library/Frameworks/R.framework/Resources/bin/R CMD INSTALL ChIPanalyser StartedAt: 2025-02-20 15:10:36 -0500 (Thu, 20 Feb 2025) EndedAt: 2025-02-20 15:10:51 -0500 (Thu, 20 Feb 2025) EllapsedTime: 15.1 seconds RetCode: 0 Status: OK