Package: ChIPXpress Version: 1.51.0 Command: /home/biocbuild/bbs-3.21-bioc/R/bin/R CMD INSTALL ChIPXpress StartedAt: 2025-02-20 16:12:21 -0500 (Thu, 20 Feb 2025) EndedAt: 2025-02-20 16:12:22 -0500 (Thu, 20 Feb 2025) EllapsedTime: 1.1 seconds RetCode: 1 Status: ERROR