Package: ChIPQC Version: 1.43.0 Command: /home/biocbuild/bbs-3.21-bioc/R/bin/R CMD check --install=check:ChIPQC.install-out.txt --library=/home/biocbuild/bbs-3.21-bioc/R/site-library --timings ChIPQC_1.43.0.tar.gz StartedAt: 2025-02-20 20:45:49 -0500 (Thu, 20 Feb 2025) EndedAt: 2025-02-20 20:52:50 -0500 (Thu, 20 Feb 2025) EllapsedTime: 420.7 seconds RetCode: 0 Status: OK CheckDir: ChIPQC.Rcheck Warnings: 0