Package: ChIPComp Version: 1.37.0 Command: E:\biocbuild\bbs-3.21-bioc\R\bin\R.exe CMD INSTALL ChIPComp StartedAt: 2025-02-20 16:26:50 -0500 (Thu, 20 Feb 2025) EndedAt: 2025-02-20 16:27:30 -0500 (Thu, 20 Feb 2025) EllapsedTime: 39.3 seconds RetCode: 0 Status: OK