Package: ChIPComp Version: 1.37.0 Command: /home/biocbuild/bbs-3.21-bioc/R/bin/R CMD INSTALL ChIPComp StartedAt: 2025-02-20 15:47:41 -0500 (Thu, 20 Feb 2025) EndedAt: 2025-02-20 15:48:11 -0500 (Thu, 20 Feb 2025) EllapsedTime: 29.9 seconds RetCode: 0 Status: OK