Package: ChIPComp Version: 1.37.0 Command: /home/biocbuild/bbs-3.21-bioc/R/bin/R CMD check --install=check:ChIPComp.install-out.txt --library=/home/biocbuild/bbs-3.21-bioc/R/site-library --timings ChIPComp_1.37.0.tar.gz StartedAt: 2025-02-20 20:45:38 -0500 (Thu, 20 Feb 2025) EndedAt: 2025-02-20 20:50:00 -0500 (Thu, 20 Feb 2025) EllapsedTime: 262.4 seconds RetCode: 0 Status: OK CheckDir: ChIPComp.Rcheck Warnings: 0