Package: ChIPComp Version: 1.37.0 Command: /home/biocbuild/bbs-3.21-bioc/R/bin/R CMD build --keep-empty-dirs --no-resave-data ChIPComp StartedAt: 2025-02-20 16:53:52 -0500 (Thu, 20 Feb 2025) EndedAt: 2025-02-20 16:54:46 -0500 (Thu, 20 Feb 2025) EllapsedTime: 54.1 seconds RetCode: 0 Status: OK PackageFile: ChIPComp_1.37.0.tar.gz PackageFileSize: 597.3 KiB