Package: ChIPComp Version: 1.37.0 Command: /Library/Frameworks/R.framework/Resources/bin/R CMD check --install=check:ChIPComp.install-out.txt --library=/Library/Frameworks/R.framework/Resources/library --no-vignettes --timings ChIPComp_1.37.0.tar.gz StartedAt: 2025-02-20 18:29:37 -0500 (Thu, 20 Feb 2025) EndedAt: 2025-02-20 18:31:13 -0500 (Thu, 20 Feb 2025) EllapsedTime: 96.0 seconds RetCode: 0 Status: OK CheckDir: ChIPComp.Rcheck Warnings: 0