Package: ChIPComp Version: 1.37.0 Command: /Library/Frameworks/R.framework/Resources/bin/R CMD build --keep-empty-dirs --no-resave-data ChIPComp StartedAt: 2025-02-20 15:52:47 -0500 (Thu, 20 Feb 2025) EndedAt: 2025-02-20 15:53:10 -0500 (Thu, 20 Feb 2025) EllapsedTime: 23.2 seconds RetCode: 0 Status: OK PackageFile: ChIPComp_1.37.0.tar.gz PackageFileSize: 596.2 KiB