Package: ChIPComp Version: 1.37.0 Command: rm -rf ChIPComp.buildbin-libdir && mkdir ChIPComp.buildbin-libdir && /Users/biocbuild/BBS/utils/build-universal.sh ChIPComp_1.37.0.tar.gz /Library/Frameworks/R.framework/Resources/bin/R ChIPComp.buildbin-libdir StartedAt: 2025-02-20 22:13:29 -0500 (Thu, 20 Feb 2025) EndedAt: 2025-02-20 22:13:44 -0500 (Thu, 20 Feb 2025) EllapsedTime: 15.3 seconds RetCode: 0 Status: OK PackageFile: ChIPComp_1.37.0.tgz PackageFileSize: 639.4 KiB