Package: ChAMP Version: 2.37.0 Command: rm -rf ChAMP.buildbin-libdir && mkdir ChAMP.buildbin-libdir && /Users/biocbuild/BBS/utils/build-universal.sh ChAMP_2.37.0.tar.gz /Library/Frameworks/R.framework/Resources/bin/R ChAMP.buildbin-libdir StartedAt: 2025-02-20 00:24:47 -0500 (Thu, 20 Feb 2025) EndedAt: 2025-02-20 00:26:30 -0500 (Thu, 20 Feb 2025) EllapsedTime: 103.0 seconds RetCode: 0 Status: OK PackageFile: ChAMP_2.37.0.tgz PackageFileSize: 4.208 MiB