Package: CexoR Version: 1.45.0 Command: E:\biocbuild\bbs-3.21-bioc\R\bin\R.exe CMD INSTALL CexoR StartedAt: 2025-02-20 16:27:23 -0500 (Thu, 20 Feb 2025) EndedAt: 2025-02-20 16:28:04 -0500 (Thu, 20 Feb 2025) EllapsedTime: 41.3 seconds RetCode: 0 Status: OK