Package: CexoR Version: 1.45.0 Command: E:\biocbuild\bbs-3.21-bioc\R\bin\R.exe CMD check --no-multiarch --install=check:CexoR.install-out.txt --library=E:\biocbuild\bbs-3.21-bioc\R\library --no-vignettes --timings CexoR_1.45.0.tar.gz StartedAt: 2025-02-20 23:43:36 -0500 (Thu, 20 Feb 2025) EndedAt: 2025-02-20 23:49:23 -0500 (Thu, 20 Feb 2025) EllapsedTime: 347.5 seconds RetCode: 0 Status: OK CheckDir: CexoR.Rcheck Warnings: 0