Package: CexoR Version: 1.45.0 Command: chmod a+r CexoR -R && E:\biocbuild\bbs-3.21-bioc\R\bin\R.exe CMD build --keep-empty-dirs --no-resave-data CexoR StartedAt: 2025-02-20 17:49:18 -0500 (Thu, 20 Feb 2025) EndedAt: 2025-02-20 17:50:32 -0500 (Thu, 20 Feb 2025) EllapsedTime: 73.9 seconds RetCode: 0 Status: OK PackageFile: CexoR_1.45.0.tar.gz PackageFileSize: 1.661 MiB