Package: CexoR Version: 1.45.0 Command: rm -rf CexoR.buildbin-libdir && mkdir CexoR.buildbin-libdir && E:\biocbuild\bbs-3.21-bioc\R\bin\R.exe CMD INSTALL --build --library=CexoR.buildbin-libdir CexoR_1.45.0.tar.gz StartedAt: 2025-02-21 07:45:23 -0500 (Fri, 21 Feb 2025) EndedAt: 2025-02-21 07:46:17 -0500 (Fri, 21 Feb 2025) EllapsedTime: 54.7 seconds RetCode: 0 Status: OK PackageFile: CexoR_1.45.0.zip PackageFileSize: 1.699 MiB