Package: CexoR Version: 1.45.0 Command: /home/biocbuild/bbs-3.21-bioc/R/bin/R CMD INSTALL CexoR StartedAt: 2025-02-19 15:36:46 -0500 (Wed, 19 Feb 2025) EndedAt: 2025-02-19 15:37:22 -0500 (Wed, 19 Feb 2025) EllapsedTime: 36.1 seconds RetCode: 0 Status: OK