Package: CexoR Version: 1.45.0 Command: /home/biocbuild/R/R/bin/R CMD check --install=check:CexoR.install-out.txt --library=/home/biocbuild/R/R/site-library --no-vignettes --timings CexoR_1.45.0.tar.gz StartedAt: 2025-01-28 09:04:02 -0000 (Tue, 28 Jan 2025) EndedAt: 2025-01-28 09:10:40 -0000 (Tue, 28 Jan 2025) EllapsedTime: 398.4 seconds RetCode: 0 Status: OK CheckDir: CexoR.Rcheck Warnings: 0