Package: CexoR Version: 1.45.0 Command: /Library/Frameworks/R.framework/Resources/bin/R CMD build --keep-empty-dirs --no-resave-data CexoR StartedAt: 2025-02-19 15:51:34 -0500 (Wed, 19 Feb 2025) EndedAt: 2025-02-19 15:51:57 -0500 (Wed, 19 Feb 2025) EllapsedTime: 23.2 seconds RetCode: 0 Status: OK PackageFile: CexoR_1.45.0.tar.gz PackageFileSize: 1.66 MiB