Package: Cepo Version: 1.13.0 Command: E:\biocbuild\bbs-3.21-bioc\R\bin\R.exe CMD INSTALL Cepo StartedAt: 2025-02-20 16:12:23 -0500 (Thu, 20 Feb 2025) EndedAt: 2025-02-20 16:13:00 -0500 (Thu, 20 Feb 2025) EllapsedTime: 37.2 seconds RetCode: 0 Status: OK