Package: Cepo Version: 1.13.0 Command: chmod a+r Cepo -R && E:\biocbuild\bbs-3.21-bioc\R\bin\R.exe CMD build --keep-empty-dirs --no-resave-data Cepo StartedAt: 2025-02-20 17:48:34 -0500 (Thu, 20 Feb 2025) EndedAt: 2025-02-20 17:50:57 -0500 (Thu, 20 Feb 2025) EllapsedTime: 142.6 seconds RetCode: 0 Status: OK PackageFile: Cepo_1.13.0.tar.gz PackageFileSize: 2.487 MiB