Package: Cepo Version: 1.13.0 Command: /Library/Frameworks/R.framework/Resources/bin/R CMD INSTALL Cepo StartedAt: 2025-02-20 15:16:30 -0500 (Thu, 20 Feb 2025) EndedAt: 2025-02-20 15:17:14 -0500 (Thu, 20 Feb 2025) EllapsedTime: 44.3 seconds RetCode: 0 Status: OK