Package: Cepo Version: 1.13.0 Command: /Library/Frameworks/R.framework/Resources/bin/R CMD check --install=check:Cepo.install-out.txt --library=/Library/Frameworks/R.framework/Resources/library --no-vignettes --timings Cepo_1.13.0.tar.gz StartedAt: 2025-02-20 19:24:24 -0500 (Thu, 20 Feb 2025) EndedAt: 2025-02-20 19:28:52 -0500 (Thu, 20 Feb 2025) EllapsedTime: 268.1 seconds RetCode: 0 Status: OK CheckDir: Cepo.Rcheck Warnings: 0