Package: Cepo Version: 1.13.0 Command: /Library/Frameworks/R.framework/Resources/bin/R CMD build --keep-empty-dirs --no-resave-data Cepo StartedAt: 2025-02-20 16:09:53 -0500 (Thu, 20 Feb 2025) EndedAt: 2025-02-20 16:11:33 -0500 (Thu, 20 Feb 2025) EllapsedTime: 100.7 seconds RetCode: 0 Status: OK PackageFile: Cepo_1.13.0.tar.gz PackageFileSize: 3.922 MiB