Package: CelliD Version: 1.15.0 Command: E:\biocbuild\bbs-3.21-bioc\R\bin\R.exe CMD INSTALL CelliD StartedAt: 2025-02-20 16:49:13 -0500 (Thu, 20 Feb 2025) EndedAt: 2025-02-20 16:50:41 -0500 (Thu, 20 Feb 2025) EllapsedTime: 88.0 seconds RetCode: 0 Status: OK