Package: CelliD Version: 1.15.0 Command: E:\biocbuild\bbs-3.21-bioc\R\bin\R.exe CMD check --no-multiarch --install=check:CelliD.install-out.txt --library=E:\biocbuild\bbs-3.21-bioc\R\library --no-vignettes --timings CelliD_1.15.0.tar.gz StartedAt: 2025-02-20 23:40:17 -0500 (Thu, 20 Feb 2025) EndedAt: 2025-02-20 23:46:55 -0500 (Thu, 20 Feb 2025) EllapsedTime: 397.6 seconds RetCode: 0 Status: WARNINGS CheckDir: CelliD.Rcheck Warnings: 1