Package: CelliD Version: 1.15.0 Command: /home/biocbuild/bbs-3.21-bioc/R/bin/R CMD check --install=check:CelliD.install-out.txt --library=/home/biocbuild/bbs-3.21-bioc/R/site-library --timings CelliD_1.15.0.tar.gz StartedAt: 2025-02-21 21:00:16 -0500 (Fri, 21 Feb 2025) EndedAt: 2025-02-21 21:14:59 -0500 (Fri, 21 Feb 2025) EllapsedTime: 882.4 seconds RetCode: 0 Status: WARNINGS CheckDir: CelliD.Rcheck Warnings: 1