Package: CelliD Version: 1.15.0 Command: /Library/Frameworks/R.framework/Resources/bin/R CMD INSTALL CelliD StartedAt: 2025-02-20 15:25:16 -0500 (Thu, 20 Feb 2025) EndedAt: 2025-02-20 15:25:40 -0500 (Thu, 20 Feb 2025) EllapsedTime: 23.9 seconds RetCode: 0 Status: OK