Package: CelliD Version: 1.15.0 Command: /Library/Frameworks/R.framework/Resources/bin/R CMD build --keep-empty-dirs --no-resave-data CelliD StartedAt: 2025-02-20 15:50:02 -0500 (Thu, 20 Feb 2025) EndedAt: 2025-02-20 15:54:44 -0500 (Thu, 20 Feb 2025) EllapsedTime: 281.9 seconds RetCode: 0 Status: OK PackageFile: CelliD_1.15.0.tar.gz PackageFileSize: 2.575 MiB