Package: CellTrails Version: 1.25.0 Command: /home/biocbuild/bbs-3.21-bioc/R/bin/R CMD INSTALL CellTrails StartedAt: 2025-02-20 15:27:42 -0500 (Thu, 20 Feb 2025) EndedAt: 2025-02-20 15:28:10 -0500 (Thu, 20 Feb 2025) EllapsedTime: 27.9 seconds RetCode: 0 Status: OK