Package: CellTrails Version: 1.25.0 Command: /Library/Frameworks/R.framework/Resources/bin/R CMD INSTALL CellTrails StartedAt: 2025-02-20 15:06:40 -0500 (Thu, 20 Feb 2025) EndedAt: 2025-02-20 15:06:51 -0500 (Thu, 20 Feb 2025) EllapsedTime: 11.6 seconds RetCode: 0 Status: OK