Package: CellTrails Version: 1.26.0 Command: /Library/Frameworks/R.framework/Resources/bin/R CMD build --keep-empty-dirs --no-resave-data CellTrails StartedAt: 2025-10-13 20:49:41 -0400 (Mon, 13 Oct 2025) EndedAt: 2025-10-13 20:50:34 -0400 (Mon, 13 Oct 2025) EllapsedTime: 52.9 seconds RetCode: 0 Status: OK PackageFile: CellTrails_1.26.0.tar.gz PackageFileSize: 2.628 MiB