Package: CellScore Version: 1.27.0 Command: /home/biocbuild/bbs-3.21-bioc/R/bin/R CMD INSTALL CellScore StartedAt: 2025-02-21 16:00:10 -0500 (Fri, 21 Feb 2025) EndedAt: 2025-02-21 16:00:30 -0500 (Fri, 21 Feb 2025) EllapsedTime: 20.2 seconds RetCode: 0 Status: OK