Package: CellScore Version: 1.27.0 Command: /Library/Frameworks/R.framework/Resources/bin/R CMD INSTALL CellScore StartedAt: 2025-02-21 15:04:37 -0500 (Fri, 21 Feb 2025) EndedAt: 2025-02-21 15:04:46 -0500 (Fri, 21 Feb 2025) EllapsedTime: 8.3 seconds RetCode: 0 Status: OK