Package: CellScore Version: 1.28.0 Command: /Library/Frameworks/R.framework/Resources/bin/R CMD INSTALL CellScore StartedAt: 2025-10-13 16:16:37 -0400 (Mon, 13 Oct 2025) EndedAt: 2025-10-13 16:17:01 -0400 (Mon, 13 Oct 2025) EllapsedTime: 24.8 seconds RetCode: 0 Status: OK