Package: CellNOptR Version: 1.53.0 Command: E:\biocbuild\bbs-3.21-bioc\R\bin\R.exe CMD check --no-multiarch --install=check:CellNOptR.install-out.txt --library=E:\biocbuild\bbs-3.21-bioc\R\library --no-vignettes --timings CellNOptR_1.53.0.tar.gz StartedAt: 2025-02-19 23:30:15 -0500 (Wed, 19 Feb 2025) EndedAt: 2025-02-19 23:32:46 -0500 (Wed, 19 Feb 2025) EllapsedTime: 151.2 seconds RetCode: 0 Status: OK CheckDir: CellNOptR.Rcheck Warnings: 0