Package: CellNOptR Version: 1.53.0 Command: /home/biocbuild/bbs-3.21-bioc/R/bin/R CMD INSTALL CellNOptR StartedAt: 2025-02-20 15:23:00 -0500 (Thu, 20 Feb 2025) EndedAt: 2025-02-20 15:23:01 -0500 (Thu, 20 Feb 2025) EllapsedTime: 1.2 seconds RetCode: 1 Status: ERROR