Package: CellNOptR Version: 1.53.0 Command: /Library/Frameworks/R.framework/Resources/bin/R CMD INSTALL CellNOptR StartedAt: 2025-02-19 15:15:08 -0500 (Wed, 19 Feb 2025) EndedAt: 2025-02-19 15:15:14 -0500 (Wed, 19 Feb 2025) EllapsedTime: 6.2 seconds RetCode: 0 Status: OK