Package: CellMixS Version: 1.23.0 Command: E:\biocbuild\bbs-3.21-bioc\R\bin\R.exe CMD INSTALL CellMixS StartedAt: 2025-02-19 16:48:31 -0500 (Wed, 19 Feb 2025) EndedAt: 2025-02-19 16:49:03 -0500 (Wed, 19 Feb 2025) EllapsedTime: 32.5 seconds RetCode: 0 Status: OK