Package: CellMapper Version: 1.33.0 Command: chmod a+r CellMapper -R && E:\biocbuild\bbs-3.21-bioc\R\bin\R.exe CMD build --keep-empty-dirs --no-resave-data CellMapper StartedAt: 2025-02-19 17:44:13 -0500 (Wed, 19 Feb 2025) EndedAt: 2025-02-19 17:46:40 -0500 (Wed, 19 Feb 2025) EllapsedTime: 146.7 seconds RetCode: 0 Status: OK PackageFile: CellMapper_1.33.0.tar.gz PackageFileSize: 207.3 KiB