Package: CellMapper Version: 1.33.0 Command: /home/biocbuild/bbs-3.21-bioc/R/bin/R CMD check --install=check:CellMapper.install-out.txt --library=/home/biocbuild/bbs-3.21-bioc/R/site-library --timings CellMapper_1.33.0.tar.gz StartedAt: 2025-02-19 20:41:07 -0500 (Wed, 19 Feb 2025) EndedAt: 2025-02-19 20:45:18 -0500 (Wed, 19 Feb 2025) EllapsedTime: 250.4 seconds RetCode: 0 Status: WARNINGS CheckDir: CellMapper.Rcheck Warnings: 1