Package: CellMapper Version: 1.33.0 Command: rm -rf CellMapper.buildbin-libdir && mkdir CellMapper.buildbin-libdir && /Users/biocbuild/BBS/utils/build-universal.sh CellMapper_1.33.0.tar.gz /Library/Frameworks/R.framework/Resources/bin/R CellMapper.buildbin-libdir StartedAt: 2025-02-20 00:24:17 -0500 (Thu, 20 Feb 2025) EndedAt: 2025-02-20 00:24:27 -0500 (Thu, 20 Feb 2025) EllapsedTime: 9.2 seconds RetCode: 0 Status: OK PackageFile: CellMapper_1.33.0.tgz PackageFileSize: 350.8 KiB