Package: CellMapper Version: 1.33.0 Command: /Library/Frameworks/R.framework/Resources/bin/R CMD INSTALL CellMapper StartedAt: 2025-02-19 15:02:18 -0500 (Wed, 19 Feb 2025) EndedAt: 2025-02-19 15:02:22 -0500 (Wed, 19 Feb 2025) EllapsedTime: 4.0 seconds RetCode: 0 Status: OK