Package: CellBench Version: 1.23.0 Command: E:\biocbuild\bbs-3.21-bioc\R\bin\R.exe CMD INSTALL CellBench StartedAt: 2025-02-17 16:11:56 -0500 (Mon, 17 Feb 2025) EndedAt: 2025-02-17 16:12:41 -0500 (Mon, 17 Feb 2025) EllapsedTime: 45.0 seconds RetCode: 0 Status: OK