Package: CellBench Version: 1.23.0 Command: E:\biocbuild\bbs-3.21-bioc\R\bin\R.exe CMD check --no-multiarch --install=check:CellBench.install-out.txt --library=E:\biocbuild\bbs-3.21-bioc\R\library --no-vignettes --timings CellBench_1.23.0.tar.gz StartedAt: 2025-02-17 23:18:27 -0500 (Mon, 17 Feb 2025) EndedAt: 2025-02-17 23:23:39 -0500 (Mon, 17 Feb 2025) EllapsedTime: 312.1 seconds RetCode: 0 Status: OK CheckDir: CellBench.Rcheck Warnings: 0