Package: CellBench Version: 1.23.0 Command: rm -rf CellBench.buildbin-libdir && mkdir CellBench.buildbin-libdir && E:\biocbuild\bbs-3.21-bioc\R\bin\R.exe CMD INSTALL --build --library=CellBench.buildbin-libdir CellBench_1.23.0.tar.gz StartedAt: 2025-02-18 07:00:29 -0500 (Tue, 18 Feb 2025) EndedAt: 2025-02-18 07:01:16 -0500 (Tue, 18 Feb 2025) EllapsedTime: 46.7 seconds RetCode: 0 Status: OK PackageFile: CellBench_1.23.0.zip PackageFileSize: 3.031 MiB