Package: CellBench Version: 1.23.0 Command: /home/biocbuild/bbs-3.21-bioc/R/bin/R CMD INSTALL CellBench StartedAt: 2025-02-19 15:55:31 -0500 (Wed, 19 Feb 2025) EndedAt: 2025-02-19 15:55:59 -0500 (Wed, 19 Feb 2025) EllapsedTime: 28.1 seconds RetCode: 0 Status: OK