Package: CellBench Version: 1.23.0 Command: /home/biocbuild/R/R/bin/R CMD build --keep-empty-dirs --no-resave-data CellBench StartedAt: 2025-01-28 21:38:11 -0000 (Tue, 28 Jan 2025) EndedAt: 2025-01-28 21:39:27 -0000 (Tue, 28 Jan 2025) EllapsedTime: 76.0 seconds RetCode: 0 Status: OK PackageFile: CellBench_1.23.0.tar.gz PackageFileSize: 3.081 MiB