Package: CellBarcode Version: 1.13.1 Command: /Library/Frameworks/R.framework/Resources/bin/R CMD INSTALL CellBarcode StartedAt: 2025-02-19 15:24:05 -0500 (Wed, 19 Feb 2025) EndedAt: 2025-02-19 15:25:16 -0500 (Wed, 19 Feb 2025) EllapsedTime: 70.4 seconds RetCode: 0 Status: OK